BEGIN:VCALENDAR
VERSION:2.0
PRODID:-//Center For The Healing Arts - ECPv6.15.20//NONSGML v1.0//EN
CALSCALE:GREGORIAN
METHOD:PUBLISH
X-WR-CALNAME:Center For The Healing Arts
X-ORIGINAL-URL:https://centerforthehealingartsnj.com
X-WR-CALDESC:Events for Center For The Healing Arts
REFRESH-INTERVAL;VALUE=DURATION:PT1H
X-Robots-Tag:noindex
X-PUBLISHED-TTL:PT1H
BEGIN:VTIMEZONE
TZID:America/New_York
BEGIN:DAYLIGHT
TZOFFSETFROM:-0500
TZOFFSETTO:-0400
TZNAME:EDT
DTSTART:20240310T070000
END:DAYLIGHT
BEGIN:STANDARD
TZOFFSETFROM:-0400
TZOFFSETTO:-0500
TZNAME:EST
DTSTART:20241103T060000
END:STANDARD
BEGIN:DAYLIGHT
TZOFFSETFROM:-0500
TZOFFSETTO:-0400
TZNAME:EDT
DTSTART:20250309T070000
END:DAYLIGHT
BEGIN:STANDARD
TZOFFSETFROM:-0400
TZOFFSETTO:-0500
TZNAME:EST
DTSTART:20251102T060000
END:STANDARD
BEGIN:DAYLIGHT
TZOFFSETFROM:-0500
TZOFFSETTO:-0400
TZNAME:EDT
DTSTART:20260308T070000
END:DAYLIGHT
BEGIN:STANDARD
TZOFFSETFROM:-0400
TZOFFSETTO:-0500
TZNAME:EST
DTSTART:20261101T060000
END:STANDARD
END:VTIMEZONE
BEGIN:VEVENT
DTSTART;TZID=America/New_York:20250804T090000
DTEND;TZID=America/New_York:20250804T160000
DTSTAMP:20260422T052434
CREATED:20250225T172306Z
LAST-MODIFIED:20250225T172630Z
UID:2988-1754298000-1754323200@centerforthehealingartsnj.com
SUMMARY:Full Time Start Date
DESCRIPTION:Your future begins in:0000Days00Hrs00Min00Sec\n600 hour program\nMandatory in-person orientation Monday 8/4/2025\n\nAt orientation expect to meet your instructor\, your classmates\, and receive an overview of the subjects and rhythm of the course. \nStudents are asked to park in the student parking area. \nEach student will receive:\n-Backpack\n-Textbooks\n-School uniform t-shirt\n-School ID\n-Orientation material
URL:https://centerforthehealingartsnj.com/event/full-time-start-date-6/
LOCATION:Center For The Healing Arts\, 8102 Town Center Blvd.\, Voorhees\, NJ\, 08043\, United States
CATEGORIES:Program Start Dates
ATTACH;FMTTYPE=image/jpeg:https://centerforthehealingartsnj.com/wp-content/uploads/2024/01/Class-Start-Date-Event-Image.jpg
END:VEVENT
BEGIN:VEVENT
DTSTART;TZID=America/New_York:20250824T090000
DTEND;TZID=America/New_York:20250825T170000
DTSTAMP:20260422T052434
CREATED:20250225T165230Z
LAST-MODIFIED:20250225T165230Z
UID:2987-1756026000-1756141200@centerforthehealingartsnj.com
SUMMARY:Somatic Mindfulness: Poise
DESCRIPTION:Register\nSomatic Mindfulness: Poise\nInstructor: Fernando Rojas MSME/T\, LMT\, PhD\nMaster Somatic Movement Educator & Therapist\nTherapeutic Massage Hall of Fame Inductee\nhttps://somaticmindfulness.co/\n16 CE credits\nNCBTMB Approved\n9:00am to 5:00pm \nSomatic Mindfulness workshops transform your massage practice through the art of attuned touch. By bridging somatics with bodywork\, these workshops invite both practitioner and client into a deeper conversation with the body’s inherent wisdom. Learn to work with natural ease and flowing precision\, allowing tissues to reveal their own path to change while protecting your own body’s resources. Through mindful presence and refined listening skills\, discover how to create the conditions for lasting therapeutic change. This approach naturally cultivates practitioner sustainability and wellbeing\, supporting both career longevity and continued growth in your practice. In Poise\, gentle\, attentive touch invites the spine and back to reveal their natural wisdom and grace. Our hands follow the rivers of tissue that flow beside and support the spine\, allowing each layer to find its most elegant expression. \nParticipants asked to arrive in yoga/gym clothes. No lotion or cream is needed. \nRegister
URL:https://centerforthehealingartsnj.com/event/somatic-mindfulness-poise/
LOCATION:Center For The Healing Arts\, 8102 Town Center Blvd.\, Voorhees\, NJ\, 08043\, United States
CATEGORIES:CE Classes
ATTACH;FMTTYPE=image/jpeg:https://centerforthehealingartsnj.com/wp-content/uploads/2024/01/Copy-of-Somatic-Mindfulness-Connection-Event-Image.jpg
END:VEVENT
END:VCALENDAR