BEGIN:VCALENDAR
VERSION:2.0
PRODID:-//Center For The Healing Arts - ECPv6.15.20//NONSGML v1.0//EN
CALSCALE:GREGORIAN
METHOD:PUBLISH
X-WR-CALNAME:Center For The Healing Arts
X-ORIGINAL-URL:https://centerforthehealingartsnj.com
X-WR-CALDESC:Events for Center For The Healing Arts
REFRESH-INTERVAL;VALUE=DURATION:PT1H
X-Robots-Tag:noindex
X-PUBLISHED-TTL:PT1H
BEGIN:VTIMEZONE
TZID:America/New_York
BEGIN:DAYLIGHT
TZOFFSETFROM:-0500
TZOFFSETTO:-0400
TZNAME:EDT
DTSTART:20250309T070000
END:DAYLIGHT
BEGIN:STANDARD
TZOFFSETFROM:-0400
TZOFFSETTO:-0500
TZNAME:EST
DTSTART:20251102T060000
END:STANDARD
BEGIN:DAYLIGHT
TZOFFSETFROM:-0500
TZOFFSETTO:-0400
TZNAME:EDT
DTSTART:20260308T070000
END:DAYLIGHT
BEGIN:STANDARD
TZOFFSETFROM:-0400
TZOFFSETTO:-0500
TZNAME:EST
DTSTART:20261101T060000
END:STANDARD
BEGIN:DAYLIGHT
TZOFFSETFROM:-0500
TZOFFSETTO:-0400
TZNAME:EDT
DTSTART:20270314T070000
END:DAYLIGHT
BEGIN:STANDARD
TZOFFSETFROM:-0400
TZOFFSETTO:-0500
TZNAME:EST
DTSTART:20271107T060000
END:STANDARD
END:VTIMEZONE
BEGIN:VEVENT
DTSTART;TZID=America/New_York:20260914T173000
DTEND;TZID=America/New_York:20260914T203000
DTSTAMP:20260422T071031
CREATED:20251229T001521Z
LAST-MODIFIED:20251229T001521Z
UID:3065-1789407000-1789417800@centerforthehealingartsnj.com
SUMMARY:Part Time Start Date
DESCRIPTION:Your future begins in:0000Days00Hrs00Min00Sec\n\n\nPart-Time Program September 14th\, 2026\, (Monday)\n\n\nMandatory in-person orientation Monday 09/14\n\nAt orientation expect to meet your instructor\, your classmates\, and receive an overview of the subjects and rhythm of the course. \nStudents are asked to park in the student parking area. \nAs a part-time course\, at-home study will be on Wednesdays\, and in-person days will be Mondays\, Thursdays\, and Saturdays. \nEach student will receive:\n-Backpack\n-Textbooks\n-School uniform t-shirt\n-School ID\n-ABMP Student Membership\n-Orientation material \nApproximately two weeks after the start date\, each student will receive:\n-Massage table with case\n-Bolster\n-Table warmer \n\n~ MBLEX Exam – the initial exam is paid for by the school upon completing the 600 Hour Massage Therapy Program and graduation requirements. \nDates are subject to change at the discretion of the school.
URL:https://centerforthehealingartsnj.com/event/part-time-start-date-5/
LOCATION:Center For The Healing Arts\, 8102 Town Center Blvd.\, Voorhees\, NJ\, 08043\, United States
CATEGORIES:Program Start Dates
ATTACH;FMTTYPE=image/jpeg:https://centerforthehealingartsnj.com/wp-content/uploads/2024/01/Class-Start-Date-Event-Image.jpg
END:VEVENT
END:VCALENDAR