BEGIN:VCALENDAR
VERSION:2.0
PRODID:-//Center For The Healing Arts - ECPv6.15.20//NONSGML v1.0//EN
CALSCALE:GREGORIAN
METHOD:PUBLISH
X-ORIGINAL-URL:https://centerforthehealingartsnj.com
X-WR-CALDESC:Events for Center For The Healing Arts
REFRESH-INTERVAL;VALUE=DURATION:PT1H
X-Robots-Tag:noindex
X-PUBLISHED-TTL:PT1H
BEGIN:VTIMEZONE
TZID:America/New_York
BEGIN:DAYLIGHT
TZOFFSETFROM:-0500
TZOFFSETTO:-0400
TZNAME:EDT
DTSTART:20250309T070000
END:DAYLIGHT
BEGIN:STANDARD
TZOFFSETFROM:-0400
TZOFFSETTO:-0500
TZNAME:EST
DTSTART:20251102T060000
END:STANDARD
BEGIN:DAYLIGHT
TZOFFSETFROM:-0500
TZOFFSETTO:-0400
TZNAME:EDT
DTSTART:20260308T070000
END:DAYLIGHT
BEGIN:STANDARD
TZOFFSETFROM:-0400
TZOFFSETTO:-0500
TZNAME:EST
DTSTART:20261101T060000
END:STANDARD
BEGIN:DAYLIGHT
TZOFFSETFROM:-0500
TZOFFSETTO:-0400
TZNAME:EDT
DTSTART:20270314T070000
END:DAYLIGHT
BEGIN:STANDARD
TZOFFSETFROM:-0400
TZOFFSETTO:-0500
TZNAME:EST
DTSTART:20271107T060000
END:STANDARD
END:VTIMEZONE
BEGIN:VEVENT
DTSTART;TZID=America/New_York:20260823T090000
DTEND;TZID=America/New_York:20260824T170000
DTSTAMP:20260422T073355
CREATED:20260308T184828Z
LAST-MODIFIED:20260308T184828Z
UID:3081-1787475600-1787590800@centerforthehealingartsnj.com
SUMMARY:Kinetic Chain Release
DESCRIPTION:Register\nKinetic Chain Release\nTwo Day Class August 23\, 2026 and August 24\, 2026\nKristen O’Grady\n15 CE Credits\nNCBTMB Approved\n9:00 AM – 5:30 PM \nRestore Balance. Unlock Potential. Transform Lives.\n\nKinetic Chain Release (KCR)\, developed by Scottish physiotherapist Hugh Gilbert\, is a gentle\nyet powerful protocol designed to correct postural imbalances and release physical and energetic blocks. Whether you’re a wellness professional or just beginning your journey\, KCR offers a transformative experience for both practitioner and client.\n\nWhy Learn KCR?\n\nExpand Your Skill Set: Add a scientifically peer-reviewed technique to your practice. KCR\nworks beautifully as a standalone service or as a pre-treatment enhancement.\n\nInclusive Client Experience: Sessions are performed with clients fully clothed\, making\nbodywork accessible to those uncomfortable with traditional massage.\n\nPractitioner-Friendly: The gentle nature of KCR allows you to perform multiple sessions\ncomfortably without strain.\n\nGlobal Community: Join a growing network of heart-centered practitioners worldwide.\n\nProven Results: KCR brings relief from many pain-causing conditions and enhances\nperformance in workplaces\, sports\, yoga\, and more.\n \nKCR is the first step in our 5-course journey designed to:\n Grow your business\n Build confidence\n Deepen self-discovery\n Create lasting transformation for you and your clients\n \nWho Can Join?\nAnyone! Whether you’re a seasoned therapist or new to bodywork\, this course is designed to be accessible and enriching for all.  Mostly LMTs and those who are licensed healthcare or allied health professionals in medical settings!\n \nReady to Begin?\nJoin us and become part of a global movement dedicated to healing\, balance\, and empowerment. Register Now or Learn More About the KCR Pathway to Bodywork Mastery. \nPlease be prepared to give and receive services with a fellow attendee.\nRegister
URL:https://centerforthehealingartsnj.com/event/kinetic-chain-release-2/
LOCATION:NJ
CATEGORIES:CE Classes
END:VEVENT
BEGIN:VEVENT
DTSTART;TZID=America/New_York:20260927T090000
DTEND;TZID=America/New_York:20260927T180000
DTSTAMP:20260422T073355
CREATED:20251228T234322Z
LAST-MODIFIED:20251228T234322Z
UID:3052-1790499600-1790532000@centerforthehealingartsnj.com
SUMMARY:Forearm Fusion Foundations
DESCRIPTION:Register\n\n\nForearm Fusion Foundations\nSeptember 27\, 2026 (09/27/2026)\n\nJames Funk\, LMT Creator & 2019 Massage Hall of Fame Inductee\nwww.forearmfusion.com\n\n8 CE Credits\nNCBTMB Approved\n9:00 AM – 6:00 PM\n\n-Use Maximum Pressure With Minimal Effort and Strain-\n\n\n\nForearm Fusion was designed to teach the massage therapist how to use maximum pressure with minimal effort and strain\, preventing repetitive use injuries and burnout. The one-day Forearm Fusion course will teach new and seasoned therapists the foundations for improving body mechanics and how to use all aspects of the forearm and elbow. These techniques will allow the therapist to provide their client with a custom massage without using their hands or thumbs. \nWear comfortable clothing and be prepared for an experiential learning environment. Please be prepared to give and receive services with a fellow attendee. \n\nRegister
URL:https://centerforthehealingartsnj.com/event/forearm-fusion-foundations/
LOCATION:Center For The Healing Arts\, 8102 Town Center Blvd.\, Voorhees\, NJ\, 08043\, United States
CATEGORIES:CE Classes
ATTACH;FMTTYPE=image/jpeg:https://centerforthehealingartsnj.com/wp-content/uploads/2024/01/Forearm-Fusion-2-Event-Image.jpg
END:VEVENT
BEGIN:VEVENT
DTSTART;TZID=America/New_York:20261011T090000
DTEND;TZID=America/New_York:20261011T170000
DTSTAMP:20260422T073355
CREATED:20251228T234612Z
LAST-MODIFIED:20251229T000338Z
UID:3053-1791709200-1791738000@centerforthehealingartsnj.com
SUMMARY:Advanced Postural Energetics
DESCRIPTION:Register\n\n\nAdvanced Postural Energetics\nOctober 11\, 2026 (10/11/2026)\nKristen O’Grady\, LMT\n7 CE Credits\nNCBTMB Approved\n\n** Postural Energetics is an Advanced Course on our Pathway to Bodywork Mastery. Please note that Kinetic Chain Release and Introduction to Connective Tissue are prerequisites for the Advanced Postural Energetics Course.**\n\n \nUnlock the Healing Dance of the Body\nWelcome to the next step on your journey to Bodywork Mastery. The Advanced Postural Energetics course is a transformative one-day experience designed for practitioners ready to deepen their understanding of how posture and energy intertwine to release the body’s innate healing potential.\nWhat You’ll Learn\n Discover how subtle postural shifts can unlock deep energetic release.\n Explore the synergy between postural alignment and connective tissue balance.\n Experience the “healing dance” — a powerful technique for restoring flow and vitality.\nWho This Is For\nThis course is ideal for bodywork professionals who have completed:\n Kinetic Chain Release (KCR) Foundation Level 1\n Introduction to Connective Tissue\nWhether you’re looking to enhance your client sessions or develop a personal daily practice\, Postural Energetics offers a unique and effective toolset.\n\n\nWhy Students Love It\n“Advanced Postural Energetics is a one-of-a-kind and brilliant course!”  This isn’t just another technique — it’s a revelation in how we understand and work with the body’s natural healing intelligence.\nPlease be prepared to give and receive services with a fellow attendee.\nRegister
URL:https://centerforthehealingartsnj.com/event/advanced-postural-energetics/
LOCATION:NJ
CATEGORIES:CE Classes
ATTACH;FMTTYPE=image/png:https://centerforthehealingartsnj.com/wp-content/uploads/2025/12/postural.png
END:VEVENT
BEGIN:VEVENT
DTSTART;TZID=America/New_York:20261019T090000
DTEND;TZID=America/New_York:20261019T180000
DTSTAMP:20260422T073355
CREATED:20251228T234847Z
LAST-MODIFIED:20251228T234847Z
UID:3054-1792400400-1792432800@centerforthehealingartsnj.com
SUMMARY:Forearm Fusion Foundations
DESCRIPTION:Register\n\nForearm Fusion Foundations\nOctober 19\, 2026 (10/19/2026)\n\nJames Funk\, LMT Creator & 2019 Massage Hall of Fame Inductee\nwww.forearmfusion.com\n\n8 CE Credits\nNCBTMB Approved\n9:00 AM – 6:00 PM\n\n-Use Maximum Pressure With Minimal Effort and Strain-\n\n\nForearm Fusion was designed to teach the massage therapist how to use maximum pressure with minimal effort and strain\, preventing repetitive use injuries and burnout. The one-day Forearm Fusion course will teach new and seasoned therapists the foundations for improving body mechanics and how to use all aspects of the forearm and elbow. These techniques will allow the therapist to provide their client with a custom massage without using their hands or thumbs. \nWear comfortable clothing and be prepared for an experiential learning environment. Please be prepared to give and receive services with a fellow attendee. \n\nRegister
URL:https://centerforthehealingartsnj.com/event/forearm-fusion-foundations-7/
LOCATION:Center For The Healing Arts\, 8102 Town Center Blvd.\, Voorhees\, NJ\, 08043\, United States
CATEGORIES:CE Classes
ATTACH;FMTTYPE=image/jpeg:https://centerforthehealingartsnj.com/wp-content/uploads/2024/01/Forearm-Fusion-1-Event-Image.jpg
END:VEVENT
BEGIN:VEVENT
DTSTART;TZID=America/New_York:20261020T090000
DTEND;TZID=America/New_York:20261020T170000
DTSTAMP:20260422T073355
CREATED:20251228T235147Z
LAST-MODIFIED:20251228T235147Z
UID:3055-1792486800-1792515600@centerforthehealingartsnj.com
SUMMARY:Somatic Mindfulness: Radiance
DESCRIPTION:Register\n\n\nSomatic Mindfulness: Radiance \nOctober 20\, 2026 (10/20/2026)\nInstructor: Fernando Rojas MSME/T\, LMT\, PhD\nMaster Somatic Movement Educator & Therapist\nTherapeutic Massage Hall of Fame Inductee\nhttps://somaticmindfulness.co/\n8 CE Credits\nNCBTMB Approved\n9:00 AM – 5:00 PM\n\n\n\nEach workshop stands alone. No prerequisites\, only curiosity.\n \nBurnout and injury are prevalent among massage therapists. Somatic Mindfulness bridges somatics and bodywork\, teaching self-care as a professional skill\, making the therapist’s own wellbeing the method for creating the conditions for healing\, intuitive insight\, and clarity of purpose. Through Attuned Touch\, each workshop invites discovery rather than direction\, allowing the body to remember how it already knows to heal. In RADIANCE attuned touch allows the neck\, head\, and face to remember their natural clarity and lightness\, sharing that freedom with the rest of the body.\n \nWho Can Join?\nThis course is designed to be accessible and enriching for all Licensed Massage therapists  \n \nParticipants will need: Sheets and comfortable gym/yoga clothes\nPlease be prepared to give and receive services with a fellow attendee. \n\n—\nTESTIMONIALS: \n“This class changed my life and the trajectory of my business! It also helped me to look at each little life lesson as an opportunity. I am now holding space for people through body-oriented coaching and Somatic Touch Therapy. Each time I have practiced attuned touch and embodied presence\, I have felt myself calming\, too. This class was a life-changing\, mindset-shift tutorial that I will practice for the rest of my life.” \n“Dearest Fernando\, this class was powerful and transformed me in so many ways. I am a different person. I now feel love for myself and put myself first. Your loving kindness allowed me to feel safe to speak and be seen. You have changed my life. Today was the first day I massaged with no pain. I said no to deep work. This class helped me love what I do again.” \n“After driving six hours home from class\, I stopped at a grocery store. Normally\, I despise grocery shopping\, but everything felt in slow motion. The buzzing around me didn’t bother me. I was fully present and floating through the aisles. Even the raindrops on my car became beautiful. That’s when I knew something in me had changed.” \n“This course was absolutely life-changing for me! I can’t wait to go deeper and to offer it to my clients. I would recommend it to any bodyworker—or really any human—looking to deepen their connection with themselves and with others.” \n“It’s hard to put into words how much this workshop has impacted me. After twenty years of massage\, I have a completely new way of approaching mindfulness. The biggest takeaway was self-love. I didn’t realize how much I needed to learn these simple yet effective ways to listen\, pause\, and be present with myself first. I am forever grateful for this experience.” \n“This experience was definitely life-changing. I didn’t know what I signed up for\, just looking to complete my CE requirements. I’ve learned techniques that will help me be a more in-tune individual. So grateful for Fernando. His sensitivity allows you to feel vulnerable and soft. This was the beginning of something great for me.” \n“My experience with Fernando in the class was superb! In forty years as a massage therapist\, he is one of the best. He led with his heart as well as his mind in this brilliant\, beautiful class.” \n“This class was steeped in love\, awareness\, knowledge\, wit\, respect\, and humor. Perfect for those who need a personal reset in a safe community that will translate to family and clients. Unforgettable.” \n“I believe this class has the ability to not only change your life but the lives of your clients and everyone you encounter. I will definitely be attending the next class.” \n“This class was a beautiful surprise\, a homecoming to my own body and being. I left deeply relaxed and restored\, with fresh perspectives I plan to explore with my toughest clients. Fernando has cultivated something truly special.”\nRegister
URL:https://centerforthehealingartsnj.com/event/somatic-mindfulness-radiance-2/
LOCATION:Center For The Healing Arts\, 8102 Town Center Blvd.\, Voorhees\, NJ\, 08043\, United States
CATEGORIES:CE Classes
ATTACH;FMTTYPE=image/jpeg:https://centerforthehealingartsnj.com/wp-content/uploads/2024/01/Copy-of-Somatic-Mindfulness-Connection-Event-Image.jpg
END:VEVENT
BEGIN:VEVENT
DTSTART;TZID=America/New_York:20261021T090000
DTEND;TZID=America/New_York:20261021T170000
DTSTAMP:20260422T073355
CREATED:20251228T235416Z
LAST-MODIFIED:20251228T235416Z
UID:3056-1792573200-1792602000@centerforthehealingartsnj.com
SUMMARY:Somatic Mindfulness: Poise
DESCRIPTION:Register\n\n\nSomatic Mindfulness: Poise\nOctober 21\, 2026 (10/21/2026)\nInstructor: Fernando Rojas MSME/T\, LMT\, PhD\nMaster Somatic Movement Educator & Therapist\nTherapeutic Massage Hall of Fame Inductee\nhttps://somaticmindfulness.co/\n8 CE Credits\nNCBTMB Approved\n9:00 AM – 5:00 PM\n\n\n\n\nEach workshop stands alone. No prerequisites\, only curiosity.\n \nBurnout and injury are prevalent among massage therapists. Somatic Mindfulness bridges somatics and bodywork\, teaching self-care as a professional skill\, making the therapist’s own wellbeing the method for creating the conditions for healing\, intuitive insight\, and clarity of purpose. Through Attuned Touch\, each workshop invites discovery rather than direction\, allowing the body to remember how it already knows to heal.  In POISE\, precise attentive touch invites the spine and back to reveal their natural balance and organization\, allowing each layer to find its most easeful expression.\n \nWho Can Join?\nThis course is designed to be accessible and enriching for all Licensed Massage therapists  \n \nParticipants will need to bring: Sheets and comfortable gym/yoga clothes \nPlease be prepared to give and receive services with a fellow attendee. \n\n—\nTESTIMONIALS: \n“This class changed my life and the trajectory of my business! It also helped me to look at each little life lesson as an opportunity. I am now holding space for people through body-oriented coaching and Somatic Touch Therapy. Each time I have practiced attuned touch and embodied presence\, I have felt myself calming\, too. This class was a life-changing\, mindset-shift tutorial that I will practice for the rest of my life.” \n“Dearest Fernando\, this class was powerful and transformed me in so many ways. I am a different person. I now feel love for myself and put myself first. Your loving kindness allowed me to feel safe to speak and be seen. You have changed my life. Today was the first day I massaged with no pain. I said no to deep work. This class helped me love what I do again.” \n“After driving six hours home from class\, I stopped at a grocery store. Normally\, I despise grocery shopping\, but everything felt in slow motion. The buzzing around me didn’t bother me. I was fully present and floating through the aisles. Even the raindrops on my car became beautiful. That’s when I knew something in me had changed.” \n“This course was absolutely life-changing for me! I can’t wait to go deeper and to offer it to my clients. I would recommend it to any bodyworker—or really any human—looking to deepen their connection with themselves and with others.” \n“It’s hard to put into words how much this workshop has impacted me. After twenty years of massage\, I have a completely new way of approaching mindfulness. The biggest takeaway was self-love. I didn’t realize how much I needed to learn these simple yet effective ways to listen\, pause\, and be present with myself first. I am forever grateful for this experience.” \n“This experience was definitely life-changing. I didn’t know what I signed up for\, just looking to complete my CE requirements. I’ve learned techniques that will help me be a more in-tune individual. So grateful for Fernando. His sensitivity allows you to feel vulnerable and soft. This was the beginning of something great for me.” \n“My experience with Fernando in the class was superb! In forty years as a massage therapist\, he is one of the best. He led with his heart as well as his mind in this brilliant\, beautiful class.” \n“This class was steeped in love\, awareness\, knowledge\, wit\, respect\, and humor. Perfect for those who need a personal reset in a safe community that will translate to family and clients. Unforgettable.” \n“I believe this class has the ability to not only change your life but the lives of your clients and everyone you encounter. I will definitely be attending the next class.” \n“This class was a beautiful surprise\, a homecoming to my own body and being. I left deeply relaxed and restored\, with fresh perspectives I plan to explore with my toughest clients. Fernando has cultivated something truly special.”\n\nRegister
URL:https://centerforthehealingartsnj.com/event/somatic-mindfulness-poise-2/
LOCATION:Center For The Healing Arts\, 8102 Town Center Blvd.\, Voorhees\, NJ\, 08043\, United States
CATEGORIES:CE Classes
ATTACH;FMTTYPE=image/jpeg:https://centerforthehealingartsnj.com/wp-content/uploads/2024/01/Somatic-Mindfulness-Radiance-Event-Image.jpg
END:VEVENT
BEGIN:VEVENT
DTSTART;TZID=America/New_York:20261022T090000
DTEND;TZID=America/New_York:20261022T170000
DTSTAMP:20260422T073355
CREATED:20251228T235601Z
LAST-MODIFIED:20251228T235622Z
UID:3057-1792659600-1792688400@centerforthehealingartsnj.com
SUMMARY:Somatic Mindfulness: Fluidity
DESCRIPTION:Somatic Mindfulness: Fluidity\nOctober 22\, 2026 (10/22/2026)\nInstructor: Fernando Rojas MSME/T\, LMT\, PhD\nMaster Somatic Movement Educator & Therapist\nTherapeutic Massage Hall of Fame Inductee\nhttps://somaticmindfulness.co/\n8 CE Credits\nNCBTMB Approved\n9:00 AM – 5:00 PM\n\n\n\n\nEach workshop stands alone. No prerequisites\, only curiosity.\n \nBurnout and injury are prevalent among massage therapists. Somatic Mindfulness bridges somatics and bodywork\, teaching self-care as a professional skill\, making the therapist’s own wellbeing the method for creating the conditions for healing\, intuitive insight\, and clarity of purpose. Through Attuned Touch\, each workshop invites discovery rather than direction\, allowing the body to remember how it already knows to heal. In FLUIDITY attuned touch invites the body’s inner waters and movement expression to return to their natural flow\, allowing motion to emerge as effortlessly as waves in the ocean.\n \nWho Can Join?\nThis course is designed to be accessible and enriching for all Licensed Massage therapists  \n \nParticipants will need: Sheets and comfortable gym/yoga clothes\nPlease be prepared to give and receive services with a fellow attendee. \n\n—\n\nTESTIMONIALS: \n“This class changed my life and the trajectory of my business! It also helped me to look at each little life lesson as an opportunity. I am now holding space for people through body-oriented coaching and Somatic Touch Therapy. Each time I have practiced attuned touch and embodied presence\, I have felt myself calming\, too. This class was a life-changing\, mindset-shift tutorial that I will practice for the rest of my life.” \n“Dearest Fernando\, this class was powerful and transformed me in so many ways. I am a different person. I now feel love for myself and put myself first. Your loving kindness allowed me to feel safe to speak and be seen. You have changed my life. Today was the first day I massaged with no pain. I said no to deep work. This class helped me love what I do again.” \n“After driving six hours home from class\, I stopped at a grocery store. Normally\, I despise grocery shopping\, but everything felt in slow motion. The buzzing around me didn’t bother me. I was fully present and floating through the aisles. Even the raindrops on my car became beautiful. That’s when I knew something in me had changed.” \n“This course was absolutely life-changing for me! I can’t wait to go deeper and to offer it to my clients. I would recommend it to any bodyworker—or really any human—looking to deepen their connection with themselves and with others.” \n“It’s hard to put into words how much this workshop has impacted me. After twenty years of massage\, I have a completely new way of approaching mindfulness. The biggest takeaway was self-love. I didn’t realize how much I needed to learn these simple yet effective ways to listen\, pause\, and be present with myself first. I am forever grateful for this experience.” \n“This experience was definitely life-changing. I didn’t know what I signed up for\, just looking to complete my CE requirements. I’ve learned techniques that will help me be a more in-tune individual. So grateful for Fernando. His sensitivity allows you to feel vulnerable and soft. This was the beginning of something great for me.” \n“My experience with Fernando in the class was superb! In forty years as a massage therapist\, he is one of the best. He led with his heart as well as his mind in this brilliant\, beautiful class.” \n“This class was steeped in love\, awareness\, knowledge\, wit\, respect\, and humor. Perfect for those who need a personal reset in a safe community that will translate to family and clients. Unforgettable.” \n“I believe this class has the ability to not only change your life but the lives of your clients and everyone you encounter. I will definitely be attending the next class.” \n“This class was a beautiful surprise\, a homecoming to my own body and being. I left deeply relaxed and restored\, with fresh perspectives I plan to explore with my toughest clients. Fernando has cultivated something truly special.”
URL:https://centerforthehealingartsnj.com/event/somatic-mindfulness-fluidity/
LOCATION:Center For The Healing Arts\, 8102 Town Center Blvd.\, Voorhees\, NJ\, 08043\, United States
CATEGORIES:CE Classes
ATTACH;FMTTYPE=image/jpeg:https://centerforthehealingartsnj.com/wp-content/uploads/2024/01/Copy-of-Somatic-Mindfulness-Connection-Event-Image.jpg
END:VEVENT
END:VCALENDAR